BEGIN:VCALENDAR
VERSION:2.0
PRODID:-//NetAuktion//NONSGML NetAuktion//SV
METHOD:PUBLISH
BEGIN:VEVENT
UID:20260421T103130-1254146914-netauktion.se
DTSTAMP:20260421T103130
DTSTART:20161027T020900
DTEND:20161027T021200
SUMMARY:Netauktion objekt 2722-007 Auktionspåminnelse
DESCRIPTION:Länk till objektet du var intresserad av: https://staging.netauktion.se/auktion/produkt/kassaregister-sam4s-er-390m
END:VEVENT
END:VCALENDAR
