BEGIN:VCALENDAR
VERSION:2.0
PRODID:-//NetAuktion//NONSGML NetAuktion//SV
METHOD:PUBLISH
BEGIN:VEVENT
UID:20260425T123448-258311293-netauktion.se
DTSTAMP:20260425T123448
DTSTART:20160923T013300
DTEND:20160923T013600
SUMMARY:Netauktion objekt 2610-014 Auktionspåminnelse
DESCRIPTION:Länk till objektet du var intresserad av: https://staging.netauktion.se/auktion/produkt/toaborstar-tvaldispensers-tandborststall
END:VEVENT
END:VCALENDAR
