BEGIN:VCALENDAR
VERSION:2.0
PRODID:-//NetAuktion//NONSGML NetAuktion//SV
METHOD:PUBLISH
BEGIN:VEVENT
UID:20260425T133952-1147206452-netauktion.se
DTSTAMP:20260425T133952
DTSTART:20160923T013400
DTEND:20160923T013700
SUMMARY:Netauktion objekt 2610-015 Auktionspåminnelse
DESCRIPTION:Länk till objektet du var intresserad av: https://staging.netauktion.se/auktion/produkt/tandborststall-och-toaborstar
END:VEVENT
END:VCALENDAR
