BEGIN:VCALENDAR
VERSION:2.0
PRODID:-//NetAuktion//NONSGML NetAuktion//SV
METHOD:PUBLISH
BEGIN:VEVENT
UID:20260425T122717-391600783-netauktion.se
DTSTAMP:20260425T122717
DTSTART:20160923T013700
DTEND:20160923T014000
SUMMARY:Netauktion objekt 2610-018 Auktionspåminnelse
DESCRIPTION:Länk till objektet du var intresserad av: https://staging.netauktion.se/auktion/produkt/tandborststall-tvalkoppar-toaborstar-mm
END:VEVENT
END:VCALENDAR
