BEGIN:VCALENDAR
VERSION:2.0
PRODID:-//NetAuktion//NONSGML NetAuktion//SV
METHOD:PUBLISH
BEGIN:VEVENT
UID:20260425T122717-172166716-netauktion.se
DTSTAMP:20260425T122717
DTSTART:20160923T010000
DTEND:20160923T010300
SUMMARY:Netauktion objekt 2732-001 Auktionspåminnelse
DESCRIPTION:Länk till objektet du var intresserad av: https://staging.netauktion.se/auktion/produkt/hjulgravmaskin-cat-m316c-02
END:VEVENT
END:VCALENDAR
