BEGIN:VCALENDAR
VERSION:2.0
PRODID:-//NetAuktion//NONSGML NetAuktion//SV
METHOD:PUBLISH
BEGIN:VEVENT
UID:20260425T135428-2142866996-netauktion.se
DTSTAMP:20260425T135428
DTSTART:20160915T035400
DTEND:20160915T035700
SUMMARY:Netauktion objekt 2606-014 Auktionspåminnelse
DESCRIPTION:Länk till objektet du var intresserad av: https://staging.netauktion.se/auktion/produkt/luftvatten-varmepumpspaket-11kw-11
END:VEVENT
END:VCALENDAR
