BEGIN:VCALENDAR
VERSION:2.0
PRODID:-//NetAuktion//NONSGML NetAuktion//SV
METHOD:PUBLISH
BEGIN:VEVENT
UID:20260425T133424-657050120-netauktion.se
DTSTAMP:20260425T133424
DTSTART:20160923T014100
DTEND:20160923T014400
SUMMARY:Netauktion objekt 2610-021 Auktionspåminnelse
DESCRIPTION:Länk till objektet du var intresserad av: https://staging.netauktion.se/auktion/produkt/toaborstar-tvalkoppar-mm
END:VEVENT
END:VCALENDAR
