BEGIN:VCALENDAR
VERSION:2.0
PRODID:-//NetAuktion//NONSGML NetAuktion//SV
METHOD:PUBLISH
BEGIN:VEVENT
UID:20260425T123459-640710543-netauktion.se
DTSTAMP:20260425T123459
DTSTART:20160923T014400
DTEND:20160923T014700
SUMMARY:Netauktion objekt 2610-025 Auktionspåminnelse
DESCRIPTION:Länk till objektet du var intresserad av: https://staging.netauktion.se/auktion/produkt/toaborstar-tvalkoppar-mm-3
END:VEVENT
END:VCALENDAR
