BEGIN:VCALENDAR
VERSION:2.0
PRODID:-//NetAuktion//NONSGML NetAuktion//SV
METHOD:PUBLISH
BEGIN:VEVENT
UID:20260425T134423-154612263-netauktion.se
DTSTAMP:20260425T134423
DTSTART:20160923T014600
DTEND:20160923T014900
SUMMARY:Netauktion objekt 2610-027 Auktionspåminnelse
DESCRIPTION:Länk till objektet du var intresserad av: https://staging.netauktion.se/auktion/produkt/papperskorgar-tvalkoppar-mm-3
END:VEVENT
END:VCALENDAR
