BEGIN:VCALENDAR
VERSION:2.0
PRODID:-//NetAuktion//NONSGML NetAuktion//SV
METHOD:PUBLISH
BEGIN:VEVENT
UID:20260425T134423-1293011484-netauktion.se
DTSTAMP:20260425T134423
DTSTART:20160923T014700
DTEND:20160923T015000
SUMMARY:Netauktion objekt 2610-028 Auktionspåminnelse
DESCRIPTION:Länk till objektet du var intresserad av: https://staging.netauktion.se/auktion/produkt/toalock-toaborstar-krokar-mm
END:VEVENT
END:VCALENDAR
