BEGIN:VCALENDAR
VERSION:2.0
PRODID:-//NetAuktion//NONSGML NetAuktion//SV
METHOD:PUBLISH
BEGIN:VEVENT
UID:20260425T123458-1528875620-netauktion.se
DTSTAMP:20260425T123458
DTSTART:20160923T015700
DTEND:20160923T020000
SUMMARY:Netauktion objekt 2610-036 Auktionspåminnelse
DESCRIPTION:Länk till objektet du var intresserad av: https://staging.netauktion.se/auktion/produkt/toaborstar-tvalkoppar-och-tandborstmuggar
END:VEVENT
END:VCALENDAR
