BEGIN:VCALENDAR
VERSION:2.0
PRODID:-//NetAuktion//NONSGML NetAuktion//SV
METHOD:PUBLISH
BEGIN:VEVENT
UID:20260425T123449-249630764-netauktion.se
DTSTAMP:20260425T123449
DTSTART:20160923T015800
DTEND:20160923T020100
SUMMARY:Netauktion objekt 2610-038 Auktionspåminnelse
DESCRIPTION:Länk till objektet du var intresserad av: https://staging.netauktion.se/auktion/produkt/papperskorgar-tvalkoppar-och-tvaldispensers
END:VEVENT
END:VCALENDAR
