BEGIN:VCALENDAR
VERSION:2.0
PRODID:-//NetAuktion//NONSGML NetAuktion//SV
METHOD:PUBLISH
BEGIN:VEVENT
UID:20260425T134423-203423448-netauktion.se
DTSTAMP:20260425T134423
DTSTART:20160923T015900
DTEND:20160923T020200
SUMMARY:Netauktion objekt 2610-040 Auktionspåminnelse
DESCRIPTION:Länk till objektet du var intresserad av: https://staging.netauktion.se/auktion/produkt/tvaldispenser-duschhyllor-mm
END:VEVENT
END:VCALENDAR
