BEGIN:VCALENDAR
VERSION:2.0
PRODID:-//NetAuktion//NONSGML NetAuktion//SV
METHOD:PUBLISH
BEGIN:VEVENT
UID:20260425T135428-1697946252-netauktion.se
DTSTAMP:20260425T135428
DTSTART:20160923T020600
DTEND:20160923T020900
SUMMARY:Netauktion objekt 2610-047 Auktionspåminnelse
DESCRIPTION:Länk till objektet du var intresserad av: https://staging.netauktion.se/auktion/produkt/40st-kartonger-med-a4-papper-for-skrivare
END:VEVENT
END:VCALENDAR
