BEGIN:VCALENDAR
VERSION:2.0
PRODID:-//NetAuktion//NONSGML NetAuktion//SV
METHOD:PUBLISH
BEGIN:VEVENT
UID:20260421T103137-1713032584-netauktion.se
DTSTAMP:20260421T103137
DTSTART:20160926T011200
DTEND:20160926T011500
SUMMARY:Netauktion objekt 2735-013 Auktionspåminnelse
DESCRIPTION:Länk till objektet du var intresserad av: https://staging.netauktion.se/auktion/produkt/overhandsfras-meec-bord
END:VEVENT
END:VCALENDAR
