BEGIN:VCALENDAR
VERSION:2.0
PRODID:-//NetAuktion//NONSGML NetAuktion//SV
METHOD:PUBLISH
BEGIN:VEVENT
UID:20260421T103004-461572214-netauktion.se
DTSTAMP:20260421T103004
DTSTART:20160926T012000
DTEND:20160926T012300
SUMMARY:Netauktion objekt 2735-019 Auktionspåminnelse
DESCRIPTION:Länk till objektet du var intresserad av: https://staging.netauktion.se/auktion/produkt/tvingar-och-limknektar-2
END:VEVENT
END:VCALENDAR
