BEGIN:VCALENDAR
VERSION:2.0
PRODID:-//NetAuktion//NONSGML NetAuktion//SV
METHOD:PUBLISH
BEGIN:VEVENT
UID:20260421T103034-701736700-netauktion.se
DTSTAMP:20260421T103034
DTSTART:20160926T013400
DTEND:20160926T013700
SUMMARY:Netauktion objekt 2735-027 Auktionspåminnelse
DESCRIPTION:Länk till objektet du var intresserad av: https://staging.netauktion.se/auktion/produkt/glasblaster-normfinish
END:VEVENT
END:VCALENDAR
