BEGIN:VCALENDAR
VERSION:2.0
PRODID:-//NetAuktion//NONSGML NetAuktion//SV
METHOD:PUBLISH
BEGIN:VEVENT
UID:20260421T102932-2070911783-netauktion.se
DTSTAMP:20260421T102932
DTSTART:20160928T021700
DTEND:20160928T022000
SUMMARY:Netauktion objekt 2650-004 Auktionspåminnelse
DESCRIPTION:Länk till objektet du var intresserad av: https://staging.netauktion.se/auktion/produkt/royal-vateservetter-19st-spannar
END:VEVENT
END:VCALENDAR
