BEGIN:VCALENDAR
VERSION:2.0
PRODID:-//NetAuktion//NONSGML NetAuktion//SV
METHOD:PUBLISH
BEGIN:VEVENT
UID:20260421T103127-1887705451-netauktion.se
DTSTAMP:20260421T103127
DTSTART:20160928T021300
DTEND:20160928T021600
SUMMARY:Netauktion objekt 2650-006 Auktionspåminnelse
DESCRIPTION:Länk till objektet du var intresserad av: https://staging.netauktion.se/auktion/produkt/antivirala-vatservetter-17st-spannar
END:VEVENT
END:VCALENDAR
