BEGIN:VCALENDAR
VERSION:2.0
PRODID:-//NetAuktion//NONSGML NetAuktion//SV
METHOD:PUBLISH
BEGIN:VEVENT
UID:20260421T104452-2016808072-netauktion.se
DTSTAMP:20260421T104452
DTSTART:20160928T020900
DTEND:20160928T021200
SUMMARY:Netauktion objekt 2650-011 Auktionspåminnelse
DESCRIPTION:Länk till objektet du var intresserad av: https://staging.netauktion.se/auktion/produkt/avfettningsmedel-ca-30-liter
END:VEVENT
END:VCALENDAR
