BEGIN:VCALENDAR
VERSION:2.0
PRODID:-//NetAuktion//NONSGML NetAuktion//SV
METHOD:PUBLISH
BEGIN:VEVENT
UID:20260421T102953-787770544-netauktion.se
DTSTAMP:20260421T102953
DTSTART:20160928T020100
DTEND:20160928T020400
SUMMARY:Netauktion objekt 2650-013 Auktionspåminnelse
DESCRIPTION:Länk till objektet du var intresserad av: https://staging.netauktion.se/auktion/produkt/2st-lyftblock-800-1000-kg
END:VEVENT
END:VCALENDAR
