BEGIN:VCALENDAR
VERSION:2.0
PRODID:-//NetAuktion//NONSGML NetAuktion//SV
METHOD:PUBLISH
BEGIN:VEVENT
UID:20260421T103007-2018187997-netauktion.se
DTSTAMP:20260421T103007
DTSTART:20160928T021000
DTEND:20160928T021300
SUMMARY:Netauktion objekt 2650-020 Auktionspåminnelse
DESCRIPTION:Länk till objektet du var intresserad av: https://staging.netauktion.se/auktion/produkt/acer-surfplatta-med-tangentbord
END:VEVENT
END:VCALENDAR
