BEGIN:VCALENDAR
VERSION:2.0
PRODID:-//NetAuktion//NONSGML NetAuktion//SV
METHOD:PUBLISH
BEGIN:VEVENT
UID:20260421T104455-1002325362-netauktion.se
DTSTAMP:20260421T104455
DTSTART:20160928T023600
DTEND:20160928T023900
SUMMARY:Netauktion objekt 2689-056 Auktionspåminnelse
DESCRIPTION:Länk till objektet du var intresserad av: https://staging.netauktion.se/auktion/produkt/2st-minibarerkylskap-dometic-23-liter-10-3
END:VEVENT
END:VCALENDAR
