BEGIN:VCALENDAR
VERSION:2.0
PRODID:-//NetAuktion//NONSGML NetAuktion//SV
METHOD:PUBLISH
BEGIN:VEVENT
UID:20260421T103030-1430233979-netauktion.se
DTSTAMP:20260421T103030
DTSTART:20160928T023200
DTEND:20160928T023500
SUMMARY:Netauktion objekt 2689-057 Auktionspåminnelse
DESCRIPTION:Länk till objektet du var intresserad av: https://staging.netauktion.se/auktion/produkt/2st-minibarerkylskap-dometic-23-liter-10-4
END:VEVENT
END:VCALENDAR
