BEGIN:VCALENDAR
VERSION:2.0
PRODID:-//NetAuktion//NONSGML NetAuktion//SV
METHOD:PUBLISH
BEGIN:VEVENT
UID:20260421T104622-1800676579-netauktion.se
DTSTAMP:20260421T104622
DTSTART:20160928T024200
DTEND:20160928T024500
SUMMARY:Netauktion objekt 2689-059 Auktionspåminnelse
DESCRIPTION:Länk till objektet du var intresserad av: https://staging.netauktion.se/auktion/produkt/2st-minibarerkylskap-dometic-23-liter-10-6
END:VEVENT
END:VCALENDAR
