BEGIN:VCALENDAR
VERSION:2.0
PRODID:-//NetAuktion//NONSGML NetAuktion//SV
METHOD:PUBLISH
BEGIN:VEVENT
UID:20260421T104430-1936935230-netauktion.se
DTSTAMP:20260421T104430
DTSTART:20160928T023800
DTEND:20160928T024100
SUMMARY:Netauktion objekt 2689-060 Auktionspåminnelse
DESCRIPTION:Länk till objektet du var intresserad av: https://staging.netauktion.se/auktion/produkt/2st-minibarerkylskap-dometic-23-liter-10-7
END:VEVENT
END:VCALENDAR
