BEGIN:VCALENDAR
VERSION:2.0
PRODID:-//NetAuktion//NONSGML NetAuktion//SV
METHOD:PUBLISH
BEGIN:VEVENT
UID:20260421T104559-1083514243-netauktion.se
DTSTAMP:20260421T104559
DTSTART:20160928T023400
DTEND:20160928T023700
SUMMARY:Netauktion objekt 2689-061 Auktionspåminnelse
DESCRIPTION:Länk till objektet du var intresserad av: https://staging.netauktion.se/auktion/produkt/2st-minibarerkylskap-dometic-23-liter-10-8
END:VEVENT
END:VCALENDAR
