BEGIN:VCALENDAR
VERSION:2.0
PRODID:-//NetAuktion//NONSGML NetAuktion//SV
METHOD:PUBLISH
BEGIN:VEVENT
UID:20260421T103031-759652748-netauktion.se
DTSTAMP:20260421T103031
DTSTART:20160928T023000
DTEND:20160928T023300
SUMMARY:Netauktion objekt 2689-062 Auktionspåminnelse
DESCRIPTION:Länk till objektet du var intresserad av: https://staging.netauktion.se/auktion/produkt/2st-minibarerkylskap-dometic-23-liter-10-9
END:VEVENT
END:VCALENDAR
