BEGIN:VCALENDAR
VERSION:2.0
PRODID:-//NetAuktion//NONSGML NetAuktion//SV
METHOD:PUBLISH
BEGIN:VEVENT
UID:20260421T104559-178409075-netauktion.se
DTSTAMP:20260421T104559
DTSTART:20170123T014300
DTEND:20170123T014600
SUMMARY:Netauktion objekt 2700-061 Auktionspåminnelse
DESCRIPTION:Länk till objektet du var intresserad av: https://staging.netauktion.se/auktion/produkt/jackett-strl-52-4
END:VEVENT
END:VCALENDAR
