BEGIN:VCALENDAR
VERSION:2.0
PRODID:-//NetAuktion//NONSGML NetAuktion//SV
METHOD:PUBLISH
BEGIN:VEVENT
UID:20260421T104356-1196187576-netauktion.se
DTSTAMP:20260421T104356
DTSTART:20160928T055700
DTEND:20160928T060000
SUMMARY:Netauktion objekt 2543-142 Auktionspåminnelse
DESCRIPTION:Länk till objektet du var intresserad av: https://staging.netauktion.se/auktion/produkt/frakt-av-objekt-pa-underlag-56290
END:VEVENT
END:VCALENDAR
