BEGIN:VCALENDAR
VERSION:2.0
PRODID:-//NetAuktion//NONSGML NetAuktion//SV
METHOD:PUBLISH
BEGIN:VEVENT
UID:20260421T104458-894252424-netauktion.se
DTSTAMP:20260421T104458
DTSTART:20161027T014600
DTEND:20161027T014900
SUMMARY:Netauktion objekt 2715-051 Auktionspåminnelse
DESCRIPTION:Länk till objektet du var intresserad av: https://staging.netauktion.se/auktion/produkt/grovdiskbank-till-diskmaskinslinje
END:VEVENT
END:VCALENDAR
