BEGIN:VCALENDAR
VERSION:2.0
PRODID:-//NetAuktion//NONSGML NetAuktion//SV
METHOD:PUBLISH
BEGIN:VEVENT
UID:20260421T102951-2082317055-netauktion.se
DTSTAMP:20260421T102951
DTSTART:20161027T014900
DTEND:20161027T015200
SUMMARY:Netauktion objekt 2715-060 Auktionspåminnelse
DESCRIPTION:Länk till objektet du var intresserad av: https://staging.netauktion.se/auktion/produkt/kombiugn-pa-stativ-juno
END:VEVENT
END:VCALENDAR
