BEGIN:VCALENDAR
VERSION:2.0
PRODID:-//NetAuktion//NONSGML NetAuktion//SV
METHOD:PUBLISH
BEGIN:VEVENT
UID:20260421T102841-1494836204-netauktion.se
DTSTAMP:20260421T102841
DTSTART:20090831T033300
DTEND:20090831T033600
SUMMARY:Netauktion objekt 0241-319 Auktionspåminnelse
DESCRIPTION:Länk till objektet du var intresserad av: https://staging.netauktion.se/auktion/produkt/ca-10st-nya-jackor-best-in-town-navy-12
END:VEVENT
END:VCALENDAR
