BEGIN:VCALENDAR
VERSION:2.0
PRODID:-//NetAuktion//NONSGML NetAuktion//SV
METHOD:PUBLISH
BEGIN:VEVENT
UID:20260421T102835-857519053-netauktion.se
DTSTAMP:20260421T102835
DTSTART:20161027T023400
DTEND:20161027T023700
SUMMARY:Netauktion objekt 2769-003 Auktionspåminnelse
DESCRIPTION:Länk till objektet du var intresserad av: https://staging.netauktion.se/auktion/produkt/skruvautomat-senco-duraspin-ds5550
END:VEVENT
END:VCALENDAR
