BEGIN:VCALENDAR
VERSION:2.0
PRODID:-//NetAuktion//NONSGML NetAuktion//SV
METHOD:PUBLISH
BEGIN:VEVENT
UID:20260421T103128-1728658433-netauktion.se
DTSTAMP:20260421T103128
DTSTART:20161027T023000
DTEND:20161027T023300
SUMMARY:Netauktion objekt 2769-005 Auktionspåminnelse
DESCRIPTION:Länk till objektet du var intresserad av: https://staging.netauktion.se/auktion/produkt/skruvautomat-senco-duraspin-ds5550-ac-nr-2
END:VEVENT
END:VCALENDAR
