BEGIN:VCALENDAR
VERSION:2.0
PRODID:-//NetAuktion//NONSGML NetAuktion//SV
METHOD:PUBLISH
BEGIN:VEVENT
UID:20260421T102951-1464834145-netauktion.se
DTSTAMP:20260421T102951
DTSTART:20161027T023700
DTEND:20161027T024000
SUMMARY:Netauktion objekt 2769-012 Auktionspåminnelse
DESCRIPTION:Länk till objektet du var intresserad av: https://staging.netauktion.se/auktion/produkt/spikpistol-senco-finishpro-18mg-nr-2
END:VEVENT
END:VCALENDAR
