BEGIN:VCALENDAR
VERSION:2.0
PRODID:-//NetAuktion//NONSGML NetAuktion//SV
METHOD:PUBLISH
BEGIN:VEVENT
UID:20260421T104445-2074248538-netauktion.se
DTSTAMP:20260421T104445
DTSTART:20161027T024200
DTEND:20161027T024500
SUMMARY:Netauktion objekt 2769-017 Auktionspåminnelse
DESCRIPTION:Länk till objektet du var intresserad av: https://staging.netauktion.se/auktion/produkt/dyckertpistol-max-nf255f18-nr-1
END:VEVENT
END:VCALENDAR
