BEGIN:VCALENDAR
VERSION:2.0
PRODID:-//NetAuktion//NONSGML NetAuktion//SV
METHOD:PUBLISH
BEGIN:VEVENT
UID:20260421T104324-2089951832-netauktion.se
DTSTAMP:20260421T104324
DTSTART:20161028T011500
DTEND:20161028T011800
SUMMARY:Netauktion objekt 2777-001 Auktionspåminnelse
DESCRIPTION:Länk till objektet du var intresserad av: https://staging.netauktion.se/auktion/produkt/biokamin-svart-small-3
END:VEVENT
END:VCALENDAR
