BEGIN:VCALENDAR
VERSION:2.0
PRODID:-//NetAuktion//NONSGML NetAuktion//SV
METHOD:PUBLISH
BEGIN:VEVENT
UID:20260421T104629-1543265289-netauktion.se
DTSTAMP:20260421T104629
DTSTART:20161028T011700
DTEND:20161028T012000
SUMMARY:Netauktion objekt 2777-003 Auktionspåminnelse
DESCRIPTION:Länk till objektet du var intresserad av: https://staging.netauktion.se/auktion/produkt/biokamin-svart-large-3
END:VEVENT
END:VCALENDAR
