BEGIN:VCALENDAR
VERSION:2.0
PRODID:-//NetAuktion//NONSGML NetAuktion//SV
METHOD:PUBLISH
BEGIN:VEVENT
UID:20260421T104618-1626256760-netauktion.se
DTSTAMP:20260421T104618
DTSTART:20090831T034200
DTEND:20090831T034500
SUMMARY:Netauktion objekt 0241-344 Auktionspåminnelse
DESCRIPTION:Länk till objektet du var intresserad av: https://staging.netauktion.se/auktion/produkt/nya-jackor-9st-best-in-town
END:VEVENT
END:VCALENDAR
