BEGIN:VCALENDAR
VERSION:2.0
PRODID:-//NetAuktion//NONSGML NetAuktion//SV
METHOD:PUBLISH
BEGIN:VEVENT
UID:20260421T104603-69241206-netauktion.se
DTSTAMP:20260421T104603
DTSTART:20170224T040500
DTEND:20170224T040800
SUMMARY:Netauktion objekt 2789-113 Auktionspåminnelse
DESCRIPTION:Länk till objektet du var intresserad av: https://staging.netauktion.se/auktion/produkt/mixerbord-ross-pc-6400b-13
END:VEVENT
END:VCALENDAR
