BEGIN:VCALENDAR
VERSION:2.0
PRODID:-//NetAuktion//NONSGML NetAuktion//SV
METHOD:PUBLISH
BEGIN:VEVENT
UID:20260421T104529-1862937134-netauktion.se
DTSTAMP:20260421T104529
DTSTART:20170224T041000
DTEND:20170224T041300
SUMMARY:Netauktion objekt 2789-133 Auktionspåminnelse
DESCRIPTION:Länk till objektet du var intresserad av: https://staging.netauktion.se/auktion/produkt/mixerbord-ross-pc-8400-4-9
END:VEVENT
END:VCALENDAR
