BEGIN:VCALENDAR
VERSION:2.0
PRODID:-//NetAuktion//NONSGML NetAuktion//SV
METHOD:PUBLISH
BEGIN:VEVENT
UID:20260421T104454-1807983203-netauktion.se
DTSTAMP:20260421T104454
DTSTART:20161230T021500
DTEND:20161230T021800
SUMMARY:Netauktion objekt 2779-037 Auktionspåminnelse
DESCRIPTION:Länk till objektet du var intresserad av: https://staging.netauktion.se/auktion/produkt/slagskruvdragare-panasonic-ey75a7
END:VEVENT
END:VCALENDAR
