BEGIN:VCALENDAR
VERSION:2.0
PRODID:-//NetAuktion//NONSGML NetAuktion//SV
METHOD:PUBLISH
BEGIN:VEVENT
UID:20260421T104622-1582875834-netauktion.se
DTSTAMP:20260421T104622
DTSTART:20161230T022900
DTEND:20161230T023200
SUMMARY:Netauktion objekt 2779-048 Auktionspåminnelse
DESCRIPTION:Länk till objektet du var intresserad av: https://staging.netauktion.se/auktion/produkt/tigersag-panasonic-ey-45a1-ls1g
END:VEVENT
END:VCALENDAR
