BEGIN:VCALENDAR
VERSION:2.0
PRODID:-//NetAuktion//NONSGML NetAuktion//SV
METHOD:PUBLISH
BEGIN:VEVENT
UID:20260421T104617-199305396-netauktion.se
DTSTAMP:20260421T104617
DTSTART:20161130T055700
DTEND:20161130T060000
SUMMARY:Netauktion objekt 2795-012 Auktionspåminnelse
DESCRIPTION:Länk till objektet du var intresserad av: https://staging.netauktion.se/auktion/produkt/stolar-bord-av-hog-kvalite-9st-bord-24st-skinnstolar
END:VEVENT
END:VCALENDAR
