BEGIN:VCALENDAR
VERSION:2.0
PRODID:-//NetAuktion//NONSGML NetAuktion//SV
METHOD:PUBLISH
BEGIN:VEVENT
UID:20260421T104559-1482736657-netauktion.se
DTSTAMP:20260421T104559
DTSTART:20161130T013000
DTEND:20161130T013300
SUMMARY:Netauktion objekt 2801-001 Auktionspåminnelse
DESCRIPTION:Länk till objektet du var intresserad av: https://staging.netauktion.se/auktion/produkt/bord-stolar-mikro-kaffebryggare
END:VEVENT
END:VCALENDAR
