BEGIN:VCALENDAR
VERSION:2.0
PRODID:-//NetAuktion//NONSGML NetAuktion//SV
METHOD:PUBLISH
BEGIN:VEVENT
UID:20260421T104620-1192998438-netauktion.se
DTSTAMP:20260421T104620
DTSTART:20161130T013200
DTEND:20161130T013500
SUMMARY:Netauktion objekt 2801-003 Auktionspåminnelse
DESCRIPTION:Länk till objektet du var intresserad av: https://staging.netauktion.se/auktion/produkt/datorpaket-med-etikettskrivare-mm
END:VEVENT
END:VCALENDAR
