BEGIN:VCALENDAR
VERSION:2.0
PRODID:-//NetAuktion//NONSGML NetAuktion//SV
METHOD:PUBLISH
BEGIN:VEVENT
UID:20260421T102951-853040339-netauktion.se
DTSTAMP:20260421T102951
DTSTART:20161130T014200
DTEND:20161130T014500
SUMMARY:Netauktion objekt 2801-005 Auktionspåminnelse
DESCRIPTION:Länk till objektet du var intresserad av: https://staging.netauktion.se/auktion/produkt/butiksinredning-sparpaneler-mm
END:VEVENT
END:VCALENDAR
