BEGIN:VCALENDAR
VERSION:2.0
PRODID:-//NetAuktion//NONSGML NetAuktion//SV
METHOD:PUBLISH
BEGIN:VEVENT
UID:20260421T103005-1725242598-netauktion.se
DTSTAMP:20260421T103005
DTSTART:20161130T015400
DTEND:20161130T015700
SUMMARY:Netauktion objekt 2801-025 Auktionspåminnelse
DESCRIPTION:Länk till objektet du var intresserad av: https://staging.netauktion.se/auktion/produkt/butiksinredning-jack-jones-3
END:VEVENT
END:VCALENDAR
