BEGIN:VCALENDAR
VERSION:2.0
PRODID:-//NetAuktion//NONSGML NetAuktion//SV
METHOD:PUBLISH
BEGIN:VEVENT
UID:20260421T104602-1667936732-netauktion.se
DTSTAMP:20260421T104602
DTSTART:20161230T020500
DTEND:20161230T020800
SUMMARY:Netauktion objekt 2810-001 Auktionspåminnelse
DESCRIPTION:Länk till objektet du var intresserad av: https://staging.netauktion.se/auktion/produkt/hitachi-batteridriven-vinkelslip
END:VEVENT
END:VCALENDAR
